BEGIN:VCALENDAR
VERSION:2.0
PRODID:-//AudioTheme 1.8.0
BEGIN:VEVENT
UID:http://valeriejoi.com/?post_type=audiotheme_gig&#038;p=441
URL:https://valeriejoi.com/events/woven-2015-bay-area-summit/
DTSTART;TZID=GMT:20150920T000000
SUMMARY:Woven 2015 Bay Area Summit
DESCRIPTION:Valerie Joi will be a featured speaker/facilitator\, leading a collective singing experience.  
LOCATION:Mill Valley Community Center
END:VEVENT
END:VCALENDAR