BEGIN:VCALENDAR
VERSION:2.0
PRODID:-//AudioTheme 1.8.0
BEGIN:VEVENT
UID:http://valeriejoi.com/?post_type=audiotheme_gig&#038;p=696
URL:https://valeriejoi.com/events/vjq-musical-family-reunion/
DTSTART;TZID=GMT:20190209T000000
SUMMARY:VJQ Musical Family Reunion
DESCRIPTION:Back by popular demand! Come join VJQ for another intimate evening of spontaneous improvisation and joyful funk! Valerie Joi Quartet (VJQ) is Valerie Joi (Vocals/Keyboard)\, Annie Stafford (Saxophone)\, Etienne Franc (Bass) and Kevin DiNoto (Drums)\, with guest percussionist Kinsha Em.
LOCATION:Raízes do Brasil Capoeira Cultural Center\, 207 McPherson St\, Ste A  \, Santa Cruz\, CA\, United States\, 95060
END:VEVENT
END:VCALENDAR