BEGIN:VCALENDAR
VERSION:2.0
PRODID:-//AudioTheme 1.8.0
BEGIN:VEVENT
UID:http://valeriejoi.com/?post_type=audiotheme_gig&#038;p=705
URL:https://valeriejoi.com/events/vjq-musical-family-reunion-2/
DTSTART;TZID=GMT:20190824T000000
SUMMARY:VJQ Musical Family Reunion
DESCRIPTION:VJQ Musical Family Reunion\, back by popular demand! The Valerie Joi Quintet returns to Raizes do Brasil Brazilian Cutural Center for another intimate evening of spontaneous improvisation and joyful funk! Valerie Joi Quintet (VJQ) is Valerie Joi (Vocals/Keyboard)\, Annie Stafford (Saxophone)\, Etienne Franc (Bass) Kevin DiNoto (Drums)\, and Kinsha Em (Percussion).
LOCATION:Raízes do Brasil Capoeira Cultural Center\, 207 McPherson St\, Ste A  \, Santa Cruz\, CA\, United States\, 95060
END:VEVENT
END:VCALENDAR