BEGIN:VCALENDAR
VERSION:2.0
PRODID:-//AudioTheme 1.8.0
BEGIN:VEVENT
UID:http://valeriejoi.com/?post_type=audiotheme_gig&#038;p=698
URL:https://valeriejoi.com/events/vjq-at-savanna-jazz/
DTSTART;TZID=GMT:20190221T000000
SUMMARY:VJQ at Savanna Jazz
DESCRIPTION:VJQ’s debut performance at this wonderful south Bay Area venue dedicated to music. Valerie Joi and her band VJQ perform an original repertoire that emphasizes uplifting vocals\, instrumental improvisation and joyful funk!  
LOCATION:Savanna Jazz\, 1189 Laurel St.\, San Carlos\, CA\, United States\, 94070
END:VEVENT
END:VCALENDAR