BEGIN:VCALENDAR
VERSION:2.0
PRODID:-//AudioTheme 1.8.0
BEGIN:VEVENT
UID:http://valeriejoi.com/?post_type=audiotheme_gig&#038;p=701
URL:https://valeriejoi.com/events/valerie-joi-quintet-at-heart-soul-summer-music-series/
DTSTART;TZID=GMT:20190628T000000
SUMMARY:VJQ at Heart & Soul Summer Music Series
DESCRIPTION:Come have "A Funky Good Time" with the Valerie Joi Quintet at the Heart & Soul Beyond Sunday Summer Music Series. Featuring Valerie Joi on piano\, keyboard & vocals\; Annie Stafford\, saxophone\; Etienne Franc\, bass\; Kevin DiNoto\, drums\; and Kinsha Em\, percussion.  With special guest Takiyah Franklin. Soul\, good vibes\, fun and great music! 
LOCATION:Heart & Soul Center of Light\, 1001 42nd St #100\, Oakland\, CA\, 94608
END:VEVENT
END:VCALENDAR