BEGIN:VCALENDAR
VERSION:2.0
PRODID:-//AudioTheme 1.8.0
BEGIN:VEVENT
UID:http://valeriejoi.com/?post_type=audiotheme_gig&#038;p=476
URL:https://valeriejoi.com/events/ucsc-gospel-choir-concert-4/
DTSTART;TZID=GMT:20160603T000000
SUMMARY:UCSC Gospel Choir Concert
DESCRIPTION:UCSC Gospel Choir Spring Quarter Performance\, under the direction of Valerie Joi Fiddmont.  Featuring Tammi Brown as Guest Soloist\, student performances and an incredible repertoire! Doors open at 7:30PM.
LOCATION:Porter Dining Hall\, UCSC\, 1156 High St  \, Santa Cruz\, CA\, 95064
END:VEVENT
END:VCALENDAR