BEGIN:VCALENDAR
VERSION:2.0
PRODID:-//AudioTheme 1.8.0
BEGIN:VEVENT
UID:http://valeriejoi.com/?post_type=audiotheme_gig&#038;p=469
URL:https://valeriejoi.com/events/ucsc-gospel-choir-concert-3/
DTSTART;TZID=GMT:20160311T000000
SUMMARY:UCSC Gospel Choir Concert
DESCRIPTION:Winter Quarter Concert.   Featuring special guest artists and student performances.
LOCATION:Porter Dining Hall\, UCSC\, 1156 High St  \, Santa Cruz\, CA\, 95064
END:VEVENT
END:VCALENDAR