BEGIN:VCALENDAR
VERSION:2.0
PRODID:-//AudioTheme 1.8.0
BEGIN:VEVENT
UID:http://valeriejoi.com/?post_type=audiotheme_gig&#038;p=230
URL:https://valeriejoi.com/events/ucsc-gospel-choir-concert-2/
DTSTART;TZID=GMT:20150605T000000
SUMMARY:UCSC Gospel Choir Concert
DESCRIPTION:Spring Quarter Concert. Featuring special guests and student artists.   Doors open at 7:30 PM. 
LOCATION:Porter Dining Hall\, UCSC\, 1156 High St  \, Santa Cruz\, CA\, 95064
END:VEVENT
END:VCALENDAR