BEGIN:VCALENDAR
VERSION:2.0
PRODID:-//AudioTheme 1.8.0
BEGIN:VEVENT
UID:http://valeriejoi.com/?post_type=audiotheme_gig&#038;p=607
URL:https://valeriejoi.com/events/tina-meeks-the-connection/
DTSTART;TZID=GMT:20170218T040000
SUMMARY:Tina Meeks & The Connection
DESCRIPTION:Valerie Joi will be on keyboards and backing vocals for Tina Meeks & The Connection\, celebrating the release of new music by T. Meeks and L. Johnson\, at Kulak’s Woodshed in Los Angeles. 
LOCATION:Kulak's Woodshed\, 5230 Laurel Canyon Blvd\, Los Angeles\, CA\, 91607
END:VEVENT
END:VCALENDAR