BEGIN:VCALENDAR
VERSION:2.0
PRODID:-//AudioTheme 1.8.0
BEGIN:VEVENT
UID:https://valeriejoi.com/?post_type=audiotheme_gig&#038;p=721
URL:https://valeriejoi.com/events/the-battle-for-the-ballot-cabrillo-festival-of-contemporary-music/
DTSTART;TZID=GMT:20220731T020000
SUMMARY:The Battle for the Ballot - Cabrillo Festival
DESCRIPTION:Stacy Garrop’s The Battle for the Ballot was commissioned by the Cabrillo Festival in 2020 to commemorate the centenary of women’s suffrage in America and incorporates the words of seven prominent Black and white suffragists\, read by narrator Valerie Joi. It receives its West Coast premiere performance tonight\, after a spectacular virtual premiere in 2020.
LOCATION:Cabrillo Festival of Contemporary Music\, Santa Cruz Civic Auditorium  307 Church Street\, Santa Cruz\, CA\, USA\, 95060
END:VEVENT
END:VCALENDAR