BEGIN:VCALENDAR
VERSION:2.0
PRODID:-//AudioTheme 1.8.0
BEGIN:VEVENT
UID:http://valeriejoi.com/?post_type=audiotheme_gig&#038;p=355
URL:https://valeriejoi.com/events/tedx-berkeley/
DTSTART;TZID=GMT:20150228T000000
SUMMARY:TEDx Berkeley
DESCRIPTION:Valerie Joi is a featured speaker at TEDx Berkeley 2015.
LOCATION:Zellerbach Hall\, UC Berkeley
END:VEVENT
END:VCALENDAR