BEGIN:VCALENDAR
VERSION:2.0
PRODID:-//AudioTheme 1.8.0
BEGIN:VEVENT
UID:https://valeriejoi.com/?post_type=audiotheme_gig&#038;p=725
URL:https://valeriejoi.com/events/sunday-morning-gospel-with-tammy-l-hall/
DTSTART;TZID=GMT:20220925T000000
SUMMARY:Sunday Morning Gospel with Tammy L. Hall
DESCRIPTION:Sunday Morning Gospel with We’ve Come This Far with Tammy L. Hall\, featuring Brown\, Sturgis & Brown\, Valerie Joi Fiddmont and Leberta Lorál.
LOCATION:Monterey Jazz Festival\, Monterey County Fairgrounds  2000 Fairground Rd\, Monterey\, CA\, 93940
END:VEVENT
END:VCALENDAR