BEGIN:VCALENDAR
VERSION:2.0
PRODID:-//AudioTheme 1.8.0
BEGIN:VEVENT
UID:http://valeriejoi.com/?post_type=audiotheme_gig&#038;p=688
URL:https://valeriejoi.com/events/simplepraise-eves-waterfront-sunday-brunch/
DTSTART;TZID=GMT:20180909T000000
SUMMARY:SimplePraise @ Eve’s Waterfront Sunday Brunch
DESCRIPTION:SimplePraise is Valerie Joi (keyboard & vocals) and Annie Stafford (saxophone). Join them for Sunday Brunch at Eve’s Waterfront in Oakland for great food\, soulful musical explorations and jazz-infused praise. 
LOCATION:Eve's Waterfront\, 15 Embarcadero West\, Oakland\, CA\, United States\, 94607
END:VEVENT
END:VCALENDAR