BEGIN:VCALENDAR
VERSION:2.0
PRODID:-//AudioTheme 1.8.0
BEGIN:VEVENT
UID:http://valeriejoi.com/?post_type=audiotheme_gig&#038;p=699
URL:https://valeriejoi.com/events/simplepraise-eves-waterfront-sunday-brunch-2/
DTSTART;TZID=GMT:20190407T000000
SUMMARY:SimplePraise @ Eve’s Waterfront Sunday Brunch
DESCRIPTION:SimplePraise is back at Eve’s for Sunday Brunch -- great food\, soulful musical explorations and jazz-infused praise. Valerie Joi (keyboard & vocals) and Annie Stafford (saxophone).
LOCATION:Eve's Waterfront\, 15 Embarcadero West\, Oakland\, CA\, United States\, 94607
END:VEVENT
END:VCALENDAR