BEGIN:VCALENDAR
VERSION:2.0
PRODID:-//AudioTheme 1.8.0
BEGIN:VEVENT
UID:http://valeriejoi.com/?post_type=audiotheme_gig&#038;p=704
URL:https://valeriejoi.com/events/simplepraise-eves-waterfront-saturday-brunch/
DTSTART;TZID=GMT:20190817T000000
SUMMARY:SimplePraise @ Eve’s Waterfront SATURDAY! Brunch
DESCRIPTION:SimplePraise - featuring Valerie Joi (keyboard & vocals) and Annie Stafford (saxophone) - will be playing SATURDAY Brunch at Eve's Waterfront in Oakland. Come join for great food\, beautiful views\, soulful musical explorations and jazz-infused praise!
LOCATION:Eve's Waterfront\, 15 Embarcadero West\, Oakland\, CA\, United States\, 94607
END:VEVENT
END:VCALENDAR