BEGIN:VCALENDAR
VERSION:2.0
PRODID:-//AudioTheme 1.8.0
BEGIN:VEVENT
UID:http://valeriejoi.com/?post_type=audiotheme_gig&#038;p=710
URL:https://valeriejoi.com/events/simplepraise-an-evening-with-michael-eric-dyson-susan-l-taylor/
DTSTART;TZID=GMT:20191122T000000
SUMMARY:An Evening w/ Michael Eric Dyson & Susan L. Taylor
DESCRIPTION:SimplePraise (Valerie Joi\, keyboard & vocals\, and Annie Stafford\, saxophone)\, is honored to provide welcome music for Heart and Soul Center of Light’s “An Evening with Michael Eric Dyson & Susan L. Taylor". 
LOCATION:Oakland Center for Spiritual Living\, 5000 Clarewood Drive\, Oakland\, CA\, United States\, 94618
END:VEVENT
END:VCALENDAR