BEGIN:VCALENDAR
VERSION:2.0
PRODID:-//AudioTheme 1.8.0
BEGIN:VEVENT
UID:http://valeriejoi.com/?post_type=audiotheme_gig&#038;p=352
URL:https://valeriejoi.com/events/santa-cruz-naacp-mlk-jr-celebration/
DTSTART;TZID=GMT:20150117T000000
SUMMARY:Annual MLK Jr. Gospel Celebration
DESCRIPTION:612 Ocean St\, Santa Cruz\, CA 95060  $10-$20\, Benefit for the NAACP Santa Cruz County Chapter.
LOCATION:Resource Center for Nonviolence
END:VEVENT
END:VCALENDAR