BEGIN:VCALENDAR
VERSION:2.0
PRODID:-//AudioTheme 1.8.0
BEGIN:VEVENT
UID:http://valeriejoi.com/?post_type=audiotheme_gig&#038;p=645
URL:https://valeriejoi.com/events/quincy-jones-the-am-years/
DTSTART;TZID=GMT:20170906T000000
SUMMARY:Quincy Jones: The A&M Years
DESCRIPTION:Valerie Joi will once again be one of the vocalists in the All-Star Tribute to the legendary Quincy Jones at the Hollywood Bowl! With honored guest\, Mr. Quincy Jones and Christian McBride\, Musical Director. 
LOCATION:Hollywood Bowl\, 2301 N Highland Ave\, Hollywood\, California\, United States\, 90068
END:VEVENT
END:VCALENDAR