BEGIN:VCALENDAR
VERSION:2.0
PRODID:-//AudioTheme 1.8.0
BEGIN:VEVENT
UID:http://valeriejoi.com/?post_type=audiotheme_gig&#038;p=608
URL:https://valeriejoi.com/events/my-heart-soul-sings-a-singing-workshop/
DTSTART;TZID=GMT:20170205T000000
SUMMARY:My Heart & Soul Sings! A Singing Workshop
DESCRIPTION:An experiential singing workshop exploring the legacy and origin of slave and work songs\, and their progression to the Civil Rights era hymns that we sing today. Facilitated by Valerie Joi with pianist Tammy Hall. 
LOCATION:Heart & Soul Center of Light\, 1001 42nd St #100\, Oakland\, CA\, 94608
END:VEVENT
END:VCALENDAR