BEGIN:VCALENDAR
VERSION:2.0
PRODID:-//AudioTheme 1.8.0
BEGIN:VEVENT
UID:http://valeriejoi.com/?post_type=audiotheme_gig&#038;p=515
URL:https://valeriejoi.com/events/mesa-verde-gardens-annual-orchard-festival/
DTSTART;TZID=GMT:20160925T000000
SUMMARY:Mesa Verde Gardens Festival
DESCRIPTION:Valerie Joi will perform with Sisters in Solidarity\, a quartet playing gospel-inflected soulful jazz\, to celebrate the work of Mesa Verde Gardens\, a community garden project dedicated to "growing justice".
LOCATION:Mesa Verde Gardens\, 95 Alta Vista Ave  \, Watsonville\, CA\, 95076
END:VEVENT
END:VCALENDAR