BEGIN:VCALENDAR
VERSION:2.0
PRODID:-//AudioTheme 1.8.0
BEGIN:VEVENT
UID:http://valeriejoi.com/?post_type=audiotheme_gig&#038;p=478
URL:https://valeriejoi.com/events/jazz-for-freedom-concert/
DTSTART;TZID=GMT:20160514T000000
SUMMARY:Jazz for Freedom Concert
DESCRIPTION:Jazz for Freedom Concert at the Santa Cruz Museum of Art & History\, put on by Barrios Unidos to raise awareness about the incarceration of women. Featuring musicians Valerie Joi\, Dandha Da Hora\, Patrice Wallace\, Kinsha Em\, Annie Stafford and Kayla Kumar.
LOCATION:MAH\, Santa Cruz\, CA
END:VEVENT
END:VCALENDAR