BEGIN:VCALENDAR
VERSION:2.0
PRODID:-//AudioTheme 1.8.0
BEGIN:VEVENT
UID:http://valeriejoi.com/?post_type=audiotheme_gig&#038;p=443
URL:https://valeriejoi.com/events/heart-soul-sunday-service/
DTSTART;TZID=GMT:20151004T000000
SUMMARY:Heart & Soul Sunday Service
DESCRIPTION:Valerie Joi will provide Musical Inspiration for two Celebration Services at 8:45am and 11am. 
LOCATION:Heart & Soul Center of Light\, 1001 42nd St #100\, Oakland\, CA\, 94608
END:VEVENT
END:VCALENDAR