BEGIN:VCALENDAR
VERSION:2.0
PRODID:-//AudioTheme 1.8.0
BEGIN:VEVENT
UID:http://valeriejoi.com/?post_type=audiotheme_gig&#038;p=685
URL:https://valeriejoi.com/events/heart-soul-sunday-service-2/
DTSTART;TZID=GMT:20180812T000000
SUMMARY:Heart & Soul Sunday Service
DESCRIPTION:Valerie Joi will provide musical inspiration for two Celebration Services at 8:45am and 11am. She is thrilled to share her music in the spiritual community where she serves as Assistant Minister of Music and where she hosts Imagining Justice. 
LOCATION:Heart & Soul Center of Light\, 1001 42nd St #100\, Oakland\, CA\, 94608
END:VEVENT
END:VCALENDAR