BEGIN:VCALENDAR
VERSION:2.0
PRODID:-//AudioTheme 1.8.0
BEGIN:VEVENT
UID:http://valeriejoi.com/?post_type=audiotheme_gig&#038;p=612
URL:https://valeriejoi.com/events/gig-612/
DTSTART;TZID=GMT:20170430T000000
SUMMARY:Spirituality and The Resistance Panel
DESCRIPTION:Valerie Joi will be speaking as part of a panel on Spirituality and the Resistance\, moderated by LeGrand Green\, at the New Living Expo in San Mateo\, CA. 
LOCATION:New Living Expo\, San Mateo Event Center  2495 Delaware St\, San Mateo\, CA\, US\, 94403
END:VEVENT
END:VCALENDAR