BEGIN:VCALENDAR
VERSION:2.0
PRODID:-//AudioTheme 1.8.0
BEGIN:VEVENT
UID:http://valeriejoi.com/?post_type=audiotheme_gig&#038;p=693
URL:https://valeriejoi.com/events/earle-baum-center-labyrinth-dedication/
DTSTART;TZID=GMT:20180907T000000
SUMMARY:Earle Baum Center Labyrinth Dedication
DESCRIPTION:SimplePraise\, featuring Valerie Joi on vocals and keyboard with Annie Stafford on saxophone\, will be performing music for celebration & contemplation at the Earle Baum Center's Labyrinth Dedication. (EBC is a non-profit community center serving people with sight loss in Northern California.) 
LOCATION:Earle Baum Center\, 4539 Occidental Rd\, Santa Rosa\, CA\, United States\, 95401
END:VEVENT
END:VCALENDAR