BEGIN:VCALENDAR
VERSION:2.0
PRODID:-//AudioTheme 1.8.0
BEGIN:VEVENT
UID:http://valeriejoi.com/?post_type=audiotheme_gig&#038;p=614
URL:https://valeriejoi.com/events/destiny-muhammad-project-for-dimensions-dance-theater/
DTSTART;TZID=GMT:20170507T000000
SUMMARY:Destiny Muhammad Project
DESCRIPTION:Valerie Joi will be playing keyboards with The Destiny Muhammad Project for the Dimensions Dance Theater “It Takes A Village” Youth Dance Showcase\, at the Phillip Reeder Performing Arts Center.  She says\, “I am absolutely thrilled to play with Destiny and support these young people in dance. It’s awesome!”
LOCATION:Castlemont High School\, 8601 MacArthur Blvd\, Oakland\, CA\, United States\, 94605
END:VEVENT
END:VCALENDAR