BEGIN:VCALENDAR
VERSION:2.0
PRODID:-//AudioTheme 1.8.0
BEGIN:VEVENT
UID:http://valeriejoi.com/?post_type=audiotheme_gig&#038;p=374
URL:https://valeriejoi.com/events/daddys-cash-tour/
DTSTART;VALUE=DATE:20140328
SUMMARY:Daddy's Cash Poland Tour
DESCRIPTION:Valerie Joi performs in Warsaw\, Poland as part of a gospel choir featured with Polish blues band Daddy's Cash.
LOCATION:Teatr Polski\, Warsaw Poland
END:VEVENT
END:VCALENDAR