BEGIN:VCALENDAR
VERSION:2.0
PRODID:-//AudioTheme 1.8.0
BEGIN:VEVENT
UID:http://valeriejoi.com/?post_type=audiotheme_gig&#038;p=349
URL:https://valeriejoi.com/events/choral-workshop-concert-with-delta-choraliers/
DTSTART;TZID=GMT:20141025T000000
SUMMARY:Music With a Purpose
DESCRIPTION:Choral Workshop and Concert\, hosted by Delta Sigma Theta\, Los Angeles Alumnae Chapter  Holman United Methodist Church  3320 West Adams Blvd\, Los Angeles\, CA 90018
LOCATION:Holman UMC\, Los Angeles CA\, 3320 West Adams Blvd\, Los Angeles\, CA\, 90018
END:VEVENT
END:VCALENDAR