BEGIN:VCALENDAR
VERSION:2.0
PRODID:-//AudioTheme 1.8.0
BEGIN:VEVENT
UID:http://valeriejoi.com/?post_type=audiotheme_gig&#038;p=145
URL:https://valeriejoi.com/events/carnegie-concert/
DTSTART;TZID=GMT:20120219T000000
SUMMARY:Carnegie Concert
DESCRIPTION:Jacqueline Hairston’s Choral Spirituals performed by a mass choir featuring over 300 singers\; soloists include Valerie Joi\, soprano\, singing solo on her composition “Living Grace”. Presented by Mid-America Productions.
LOCATION:Carnegie Hall\, 881 7th Ave\, New York\, NY\, 10019
END:VEVENT
END:VCALENDAR