BEGIN:VCALENDAR
VERSION:2.0
PRODID:-//AudioTheme 1.8.0
BEGIN:VEVENT
UID:http://valeriejoi.com/?post_type=audiotheme_gig&#038;p=347
URL:https://valeriejoi.com/events/4th-annual-rejuvenation-festival/
DTSTART;TZID=GMT:20140517T000000
SUMMARY:4th Annual Rejuvenation Festival
DESCRIPTION:Valerie Joi peforms with her quartet\, VJQ\, at the 4th Annual Rejuvenation Festival.   Featured artists also include Charles Neville with Youssoupha Sidibe & Mystic Rhythms. 
LOCATION:San Lorenzo Park\, Santa Cruz
END:VEVENT
END:VCALENDAR