BEGIN:VCALENDAR
VERSION:2.0
PRODID:-//AudioTheme 1.8.0
BEGIN:VEVENT
UID:http://valeriejoi.com/?post_type=audiotheme_gig&#038;p=689
URL:https://valeriejoi.com/events/2018-08-08/
DTSTART;TZID=GMT:20180808T000000
SUMMARY:VJQ Musical Family Reunion
DESCRIPTION:Come join VJQ for an intimate evening of spontaneous improvisation and joyful funk! Valerie Joi Quartet (VJQ) is Valerie Joi (Vocals/Keyboard)\, Annie Stafford (Saxophone)\, Etienne Franc (Bass) and Kevin DiNoto (Drums). 
LOCATION:Raízes do Brasil Capoeira Cultural Center\, 207 McPherson St\, Ste A  \, Santa Cruz\, CA\, United States\, 95060
END:VEVENT
END:VCALENDAR