BEGIN:VCALENDAR
VERSION:2.0
PRODID:-//AudioTheme 1.8.0
BEGIN:VEVENT
UID:http://valeriejoi.com/?post_type=audiotheme_gig&#038;p=680
URL:https://valeriejoi.com/events/2018-07-15/
DTSTART;TZID=GMT:20180715T000000
SUMMARY:SimplePraise @ Eve's Waterfront Sunday Brunch
DESCRIPTION:SimplePraise features Valerie Joi (keyboards) and Annie Stafford (saxophone) playing soulful improvised music. Catch them on the deck for Sunday Brunch at Eve's Waterfront Restaurant in Oakland\, CA. 
LOCATION:Eve's Waterfront\, 15 Embarcadero West\, Oakland\, CA\, United States\, 94607
END:VEVENT
END:VCALENDAR