BEGIN:VCALENDAR
VERSION:2.0
PRODID:-//AudioTheme 1.8.0
BEGIN:VEVENT
UID:http://valeriejoi.com/?post_type=audiotheme_gig&#038;p=506
URL:https://valeriejoi.com/events/2016-09-16/
DTSTART;TZID=GMT:20160916T000000
SUMMARY:MJF Tribute to Quincy Jones
DESCRIPTION:Valerie Joi will be one of the vocalists in the All-Star Tribute to the legendary Quincy Jones at the Monterey Jazz Festival! With honored guest\, Mr. Quincy Jones and Christian McBride\, Musical Director. At the Jimmy Lyons/Arena Stage.
LOCATION:Monterey Jazz Festival\, Monterey County Fairgrounds  2000 Fairground Rd\, Monterey\, CA\, 93940
END:VEVENT
END:VCALENDAR