BEGIN:VCALENDAR
VERSION:2.0
PRODID:-//AudioTheme 1.8.0
BEGIN:VEVENT
UID:http://valeriejoi.com/?post_type=audiotheme_gig&#038;p=484
URL:https://valeriejoi.com/events/2016-06-17/
DTSTART;TZID=GMT:20160617T000000
SUMMARY:Let It Shine!
DESCRIPTION:A Spiritual Celebration in Poetry and Song\, featuring Lisa Lockhart\, Angela Lockhart Fisher\, James H. Lockhart III and Valerie Joi Fiddmont. 
LOCATION:First Church of Christ Scientist\, 2555 Old Moultrie Rd\, St Augustine\, FL\, 32086
END:VEVENT
END:VCALENDAR