BEGIN:VCALENDAR
VERSION:2.0
PRODID:-//AudioTheme 1.8.0
BEGIN:VEVENT
UID:http://valeriejoi.com/?post_type=audiotheme_gig&#038;p=397
URL:https://valeriejoi.com/events/2015-08-16/
DTSTART;TZID=GMT:20150816T000000
SUMMARY:VJQ @ Sunday Soul Session
DESCRIPTION:Free outdoor concert in Abbott Square\, in front of the Santa Cruz Museum of Art History. Featuring performances by VJQ (Valerie Joi Quartet) and Paradise Soul Savers.
LOCATION:MAH\, Santa Cruz\, CA
END:VEVENT
END:VCALENDAR