BEGIN:VCALENDAR
VERSION:2.0
PRODID:-//AudioTheme 1.8.0
BEGIN:VEVENT
UID:http://valeriejoi.com/?post_type=audiotheme_gig&#038;p=345
URL:https://valeriejoi.com/events/2012-04-14/
DTSTART;TZID=GMT:20120414T000000
SUMMARY:Carnegie Hall Encore Concert
DESCRIPTION:Honoring the Journey: Carnegie Hall Encore Concert  150-member choir performing music that celebrates resilience\, hope and freedom.
LOCATION:Mello Center for the Performing Arts
END:VEVENT
END:VCALENDAR